BEGIN:VCALENDAR
VERSION:2.0
PRODID:-//Musikverein Dedensen von 1923 e.V. - ECPv6.15.20//NONSGML v1.0//EN
CALSCALE:GREGORIAN
METHOD:PUBLISH
X-WR-CALNAME:Musikverein Dedensen von 1923 e.V.
X-ORIGINAL-URL:https://www.mv-dedensen.de
X-WR-CALDESC:Veranstaltungen für Musikverein Dedensen von 1923 e.V.
REFRESH-INTERVAL;VALUE=DURATION:PT1H
X-Robots-Tag:noindex
X-PUBLISHED-TTL:PT1H
BEGIN:VTIMEZONE
TZID:Europe/Paris
BEGIN:DAYLIGHT
TZOFFSETFROM:+0100
TZOFFSETTO:+0200
TZNAME:CEST
DTSTART:20240331T010000
END:DAYLIGHT
BEGIN:STANDARD
TZOFFSETFROM:+0200
TZOFFSETTO:+0100
TZNAME:CET
DTSTART:20241027T010000
END:STANDARD
BEGIN:DAYLIGHT
TZOFFSETFROM:+0100
TZOFFSETTO:+0200
TZNAME:CEST
DTSTART:20250330T010000
END:DAYLIGHT
BEGIN:STANDARD
TZOFFSETFROM:+0200
TZOFFSETTO:+0100
TZNAME:CET
DTSTART:20251026T010000
END:STANDARD
BEGIN:DAYLIGHT
TZOFFSETFROM:+0100
TZOFFSETTO:+0200
TZNAME:CEST
DTSTART:20260329T010000
END:DAYLIGHT
BEGIN:STANDARD
TZOFFSETFROM:+0200
TZOFFSETTO:+0100
TZNAME:CET
DTSTART:20261025T010000
END:STANDARD
END:VTIMEZONE
BEGIN:VEVENT
DTSTART;TZID=Europe/Paris:20250907T000000
DTEND;TZID=Europe/Paris:20250907T235959
DTSTAMP:20260425T130005
CREATED:20250827T185344Z
LAST-MODIFIED:20250827T185344Z
UID:3573-1757203200-1757289599@www.mv-dedensen.de
SUMMARY:100 Jahre Feuerwehr Idensen
DESCRIPTION:
URL:https://www.mv-dedensen.de/veranstaltungen/100-jahre-feuerwehr-idensen/
LOCATION:Niedersachsen
END:VEVENT
END:VCALENDAR