BEGIN:VCALENDAR
VERSION:2.0
PRODID:-//Musikverein Dedensen von 1923 e.V. - ECPv6.15.20//NONSGML v1.0//EN
CALSCALE:GREGORIAN
METHOD:PUBLISH
X-ORIGINAL-URL:https://www.mv-dedensen.de
X-WR-CALDESC:Veranstaltungen für Musikverein Dedensen von 1923 e.V.
REFRESH-INTERVAL;VALUE=DURATION:PT1H
X-Robots-Tag:noindex
X-PUBLISHED-TTL:PT1H
BEGIN:VTIMEZONE
TZID:Europe/Paris
BEGIN:DAYLIGHT
TZOFFSETFROM:+0100
TZOFFSETTO:+0200
TZNAME:CEST
DTSTART:20240331T010000
END:DAYLIGHT
BEGIN:STANDARD
TZOFFSETFROM:+0200
TZOFFSETTO:+0100
TZNAME:CET
DTSTART:20241027T010000
END:STANDARD
BEGIN:DAYLIGHT
TZOFFSETFROM:+0100
TZOFFSETTO:+0200
TZNAME:CEST
DTSTART:20250330T010000
END:DAYLIGHT
BEGIN:STANDARD
TZOFFSETFROM:+0200
TZOFFSETTO:+0100
TZNAME:CET
DTSTART:20251026T010000
END:STANDARD
BEGIN:DAYLIGHT
TZOFFSETFROM:+0100
TZOFFSETTO:+0200
TZNAME:CEST
DTSTART:20260329T010000
END:DAYLIGHT
BEGIN:STANDARD
TZOFFSETFROM:+0200
TZOFFSETTO:+0100
TZNAME:CET
DTSTART:20261025T010000
END:STANDARD
END:VTIMEZONE
BEGIN:VEVENT
DTSTART;TZID=Europe/Paris:20251102T000000
DTEND;TZID=Europe/Paris:20251102T235959
DTSTAMP:20260423T185425
CREATED:20250908T083124Z
LAST-MODIFIED:20250908T083124Z
UID:3577-1762041600-1762127999@www.mv-dedensen.de
SUMMARY:Serenaden Konzert Husum
DESCRIPTION:
URL:https://www.mv-dedensen.de/veranstaltungen/serenaden-konzert-husum-2/
LOCATION:Kirche Husum\, An d. Kirche\, Husum\, 31632\, Germany
END:VEVENT
BEGIN:VEVENT
DTSTART;TZID=Europe/Paris:20251106T000000
DTEND;TZID=Europe/Paris:20251106T235959
DTSTAMP:20260423T185425
CREATED:20251004T123438Z
LAST-MODIFIED:20251004T123438Z
UID:3586-1762387200-1762473599@www.mv-dedensen.de
SUMMARY:Grünkohlprobe Hafenblick
DESCRIPTION:
URL:https://www.mv-dedensen.de/veranstaltungen/gruenkohlprobe-hafenblick/
LOCATION:Hafenblick Seelze\, Kanalstr. 4\, Seelze\, 30926
END:VEVENT
BEGIN:VEVENT
DTSTART;TZID=Europe/Paris:20251107T180000
DTEND;TZID=Europe/Paris:20251107T200000
DTSTAMP:20260423T185425
CREATED:20251004T123602Z
LAST-MODIFIED:20251004T123602Z
UID:3588-1762538400-1762545600@www.mv-dedensen.de
SUMMARY:Lichtermeer Seelze
DESCRIPTION:
URL:https://www.mv-dedensen.de/veranstaltungen/lichtermeer-seelze/
LOCATION:Niedersachsen
END:VEVENT
BEGIN:VEVENT
DTSTART;TZID=Europe/Paris:20251116T000000
DTEND;TZID=Europe/Paris:20251116T235959
DTSTAMP:20260423T185425
CREATED:20250908T083348Z
LAST-MODIFIED:20250908T083348Z
UID:3579-1763251200-1763337599@www.mv-dedensen.de
SUMMARY:Volkstrauertag Dedensen/Holtensen
DESCRIPTION:
URL:https://www.mv-dedensen.de/veranstaltungen/volkstrauertag-dedensen-holtensen-2/
LOCATION:Hase Kirche Dedensen\, Am Sportplatz 2\, Dedensen\, 30926\, Germany
END:VEVENT
BEGIN:VEVENT
DTSTART;TZID=Europe/Paris:20251116T080000
DTEND;TZID=Europe/Paris:20251116T170000
DTSTAMP:20260423T185425
CREATED:20250908T083542Z
LAST-MODIFIED:20250908T083542Z
UID:3582-1763280000-1763312400@www.mv-dedensen.de
SUMMARY:Laterne/Sankt Martins Umzug
DESCRIPTION:
URL:https://www.mv-dedensen.de/veranstaltungen/laterne-sankt-martins-umzug/
LOCATION:Pfarrheim Dedensen\, Altes Dorf 28\, Dedensen\, Niedersachsen\, 30926\, Germany
END:VEVENT
BEGIN:VEVENT
DTSTART;TZID=Europe/Paris:20251130T160000
DTEND;TZID=Europe/Paris:20251130T180000
DTSTAMP:20260423T185425
CREATED:20251004T123711Z
LAST-MODIFIED:20251106T143355Z
UID:3590-1764518400-1764525600@www.mv-dedensen.de
SUMMARY:Adventskonzert Barsinghausen
DESCRIPTION:
URL:https://www.mv-dedensen.de/veranstaltungen/adventskonzert-barsinghausen-3/
LOCATION:Klosterkirche Barsinghausen\, Bergamtstraße 8\, Barsinghausen\, 30890\, Deutschland
END:VEVENT
END:VCALENDAR